BEGIN:VCALENDAR
VERSION:2.0
PRODID:-//Willkommen beim Blasorchester Borgloh! - ECPv6.15.15//NONSGML v1.0//EN
CALSCALE:GREGORIAN
METHOD:PUBLISH
X-ORIGINAL-URL:https://blasorchester-borgloh.de
X-WR-CALDESC:Veranstaltungen für Willkommen beim Blasorchester Borgloh!
REFRESH-INTERVAL;VALUE=DURATION:PT1H
X-Robots-Tag:noindex
X-PUBLISHED-TTL:PT1H
BEGIN:VTIMEZONE
TZID:Europe/Berlin
BEGIN:DAYLIGHT
TZOFFSETFROM:+0100
TZOFFSETTO:+0200
TZNAME:CEST
DTSTART:20250330T010000
END:DAYLIGHT
BEGIN:STANDARD
TZOFFSETFROM:+0200
TZOFFSETTO:+0100
TZNAME:CET
DTSTART:20251026T010000
END:STANDARD
BEGIN:DAYLIGHT
TZOFFSETFROM:+0100
TZOFFSETTO:+0200
TZNAME:CEST
DTSTART:20260329T010000
END:DAYLIGHT
BEGIN:STANDARD
TZOFFSETFROM:+0200
TZOFFSETTO:+0100
TZNAME:CET
DTSTART:20261025T010000
END:STANDARD
BEGIN:DAYLIGHT
TZOFFSETFROM:+0100
TZOFFSETTO:+0200
TZNAME:CEST
DTSTART:20270328T010000
END:DAYLIGHT
BEGIN:STANDARD
TZOFFSETFROM:+0200
TZOFFSETTO:+0100
TZNAME:CET
DTSTART:20271031T010000
END:STANDARD
END:VTIMEZONE
BEGIN:VEVENT
DTSTART;TZID=Europe/Berlin:20260620T180000
DTEND;TZID=Europe/Berlin:20260620T190000
DTSTAMP:20260423T141028
CREATED:20251106T125302Z
LAST-MODIFIED:20251106T125302Z
UID:1386-1781978400-1781982000@blasorchester-borgloh.de
SUMMARY:Schützenfest Welling
DESCRIPTION:
URL:https://blasorchester-borgloh.de/event/schuetzenfest-welling/
LOCATION:Schützenplatz Wellingholzhausen\, Schützenstraße 44\, Wellingholzhausen\, Niedersachen\, 49326\, Deutschland
END:VEVENT
BEGIN:VEVENT
DTSTART;TZID=Europe/Berlin:20260626T193000
DTEND;TZID=Europe/Berlin:20260626T230000
DTSTAMP:20260423T141028
CREATED:20251106T125335Z
LAST-MODIFIED:20251106T125335Z
UID:1388-1782502200-1782514800@blasorchester-borgloh.de
SUMMARY:Schützenfest Borgloh
DESCRIPTION:
URL:https://blasorchester-borgloh.de/event/schuetzenfest-borgloh-3/
LOCATION:Schützenplatz Borgloh\, Düppelweg 1\, Borgloh\, Niedersachsen\, 49176
END:VEVENT
BEGIN:VEVENT
DTSTART;TZID=Europe/Berlin:20260627T180000
DTEND;TZID=Europe/Berlin:20260627T210000
DTSTAMP:20260423T141028
CREATED:20251106T125412Z
LAST-MODIFIED:20251106T125412Z
UID:1390-1782583200-1782594000@blasorchester-borgloh.de
SUMMARY:Schützenfest Borgloh
DESCRIPTION:
URL:https://blasorchester-borgloh.de/event/schuetzenfest-borgloh-4/
LOCATION:Schützenplatz Borgloh\, Düppelweg 1\, Borgloh\, Niedersachsen\, 49176
END:VEVENT
BEGIN:VEVENT
DTSTART;TZID=Europe/Berlin:20260629T150000
DTEND;TZID=Europe/Berlin:20260629T210000
DTSTAMP:20260423T141028
CREATED:20251106T125445Z
LAST-MODIFIED:20251106T125445Z
UID:1392-1782745200-1782766800@blasorchester-borgloh.de
SUMMARY:Schützenfest Borgloh
DESCRIPTION:
URL:https://blasorchester-borgloh.de/event/schuetzenfest-borgloh-5/
LOCATION:Schützenplatz Borgloh\, Düppelweg 1\, Borgloh\, Niedersachsen\, 49176
END:VEVENT
BEGIN:VEVENT
DTSTART;TZID=Europe/Berlin:20260704T180000
DTEND;TZID=Europe/Berlin:20260704T200000
DTSTAMP:20260423T141028
CREATED:20251106T125518Z
LAST-MODIFIED:20251106T125518Z
UID:1394-1783188000-1783195200@blasorchester-borgloh.de
SUMMARY:Schützenfest Glane
DESCRIPTION:
URL:https://blasorchester-borgloh.de/event/schuetzenfest-glane-3/
LOCATION:Schützenplatz Glane
END:VEVENT
BEGIN:VEVENT
DTSTART;TZID=Europe/Berlin:20260705T140000
DTEND;TZID=Europe/Berlin:20260705T210000
DTSTAMP:20260423T141028
CREATED:20251106T125553Z
LAST-MODIFIED:20251106T125553Z
UID:1396-1783260000-1783285200@blasorchester-borgloh.de
SUMMARY:Schützenfest Glane
DESCRIPTION:
URL:https://blasorchester-borgloh.de/event/schuetzenfest-glane-4/
LOCATION:Schützenplatz Glane
END:VEVENT
BEGIN:VEVENT
DTSTART;TZID=Europe/Berlin:20260706T090000
DTEND;TZID=Europe/Berlin:20260706T160000
DTSTAMP:20260423T141028
CREATED:20251106T125630Z
LAST-MODIFIED:20251106T125630Z
UID:1398-1783328400-1783353600@blasorchester-borgloh.de
SUMMARY:Schützenfest Glane
DESCRIPTION:
URL:https://blasorchester-borgloh.de/event/schuetzenfest-glane-5/
LOCATION:Schützenplatz Glane
END:VEVENT
BEGIN:VEVENT
DTSTART;TZID=Europe/Berlin:20260802T080000
DTEND;TZID=Europe/Berlin:20260802T130000
DTSTAMP:20260423T141028
CREATED:20251106T125709Z
LAST-MODIFIED:20251106T125709Z
UID:1400-1785657600-1785675600@blasorchester-borgloh.de
SUMMARY:Schützenfest Bad Iburg
DESCRIPTION:
URL:https://blasorchester-borgloh.de/event/schuetzenfest-bad-iburg-3/
LOCATION:Schützenplatz Bad Iburg\, Beckerteichpforte 4\, Bad Iburg\, Niedersachen\, 49186\, Deutschland
END:VEVENT
BEGIN:VEVENT
DTSTART;TZID=Europe/Berlin:20260822T110000
DTEND;TZID=Europe/Berlin:20260822T140000
DTSTAMP:20260423T141028
CREATED:20251106T125739Z
LAST-MODIFIED:20251106T125739Z
UID:1402-1787396400-1787407200@blasorchester-borgloh.de
SUMMARY:Glaner Markt
DESCRIPTION:
URL:https://blasorchester-borgloh.de/event/glaner-markt-3/
LOCATION:Thieplatz Glane\, Am Thie 2\, Bad Iburg\, Deutschland
END:VEVENT
BEGIN:VEVENT
DTSTART;TZID=Europe/Berlin:20260919T120000
DTEND;TZID=Europe/Berlin:20260919T140000
DTSTAMP:20260423T141028
CREATED:20251106T125818Z
LAST-MODIFIED:20251106T125818Z
UID:1404-1789819200-1789826400@blasorchester-borgloh.de
SUMMARY:Oktoberfest Kloster Oesede
DESCRIPTION:
URL:https://blasorchester-borgloh.de/event/oktoberfest-kloster-oesede-2/
LOCATION:Sportzentrum Kloster Oesede
END:VEVENT
END:VCALENDAR