BEGIN:VCALENDAR
VERSION:2.0
PRODID:-//Willkommen beim Blasorchester Borgloh! - ECPv6.15.15//NONSGML v1.0//EN
CALSCALE:GREGORIAN
METHOD:PUBLISH
X-ORIGINAL-URL:https://blasorchester-borgloh.de
X-WR-CALDESC:Veranstaltungen für Willkommen beim Blasorchester Borgloh!
REFRESH-INTERVAL;VALUE=DURATION:PT1H
X-Robots-Tag:noindex
X-PUBLISHED-TTL:PT1H
BEGIN:VTIMEZONE
TZID:Europe/Berlin
BEGIN:DAYLIGHT
TZOFFSETFROM:+0100
TZOFFSETTO:+0200
TZNAME:CEST
DTSTART:20250330T010000
END:DAYLIGHT
BEGIN:STANDARD
TZOFFSETFROM:+0200
TZOFFSETTO:+0100
TZNAME:CET
DTSTART:20251026T010000
END:STANDARD
BEGIN:DAYLIGHT
TZOFFSETFROM:+0100
TZOFFSETTO:+0200
TZNAME:CEST
DTSTART:20260329T010000
END:DAYLIGHT
BEGIN:STANDARD
TZOFFSETFROM:+0200
TZOFFSETTO:+0100
TZNAME:CET
DTSTART:20261025T010000
END:STANDARD
BEGIN:DAYLIGHT
TZOFFSETFROM:+0100
TZOFFSETTO:+0200
TZNAME:CEST
DTSTART:20270328T010000
END:DAYLIGHT
BEGIN:STANDARD
TZOFFSETFROM:+0200
TZOFFSETTO:+0100
TZNAME:CET
DTSTART:20271031T010000
END:STANDARD
END:VTIMEZONE
BEGIN:VEVENT
DTSTART;TZID=Europe/Berlin:20260704T180000
DTEND;TZID=Europe/Berlin:20260704T200000
DTSTAMP:20260423T173109
CREATED:20251106T125518Z
LAST-MODIFIED:20251106T125518Z
UID:1394-1783188000-1783195200@blasorchester-borgloh.de
SUMMARY:Schützenfest Glane
DESCRIPTION:
URL:https://blasorchester-borgloh.de/event/schuetzenfest-glane-3/
LOCATION:Schützenplatz Glane
END:VEVENT
BEGIN:VEVENT
DTSTART;TZID=Europe/Berlin:20260705T140000
DTEND;TZID=Europe/Berlin:20260705T210000
DTSTAMP:20260423T173109
CREATED:20251106T125553Z
LAST-MODIFIED:20251106T125553Z
UID:1396-1783260000-1783285200@blasorchester-borgloh.de
SUMMARY:Schützenfest Glane
DESCRIPTION:
URL:https://blasorchester-borgloh.de/event/schuetzenfest-glane-4/
LOCATION:Schützenplatz Glane
END:VEVENT
BEGIN:VEVENT
DTSTART;TZID=Europe/Berlin:20260706T090000
DTEND;TZID=Europe/Berlin:20260706T160000
DTSTAMP:20260423T173109
CREATED:20251106T125630Z
LAST-MODIFIED:20251106T125630Z
UID:1398-1783328400-1783353600@blasorchester-borgloh.de
SUMMARY:Schützenfest Glane
DESCRIPTION:
URL:https://blasorchester-borgloh.de/event/schuetzenfest-glane-5/
LOCATION:Schützenplatz Glane
END:VEVENT
END:VCALENDAR